BEGIN:VCALENDAR
VERSION:2.0
PRODID:-//Celemi - ECPv6.4.0.1//NONSGML v1.0//EN
CALSCALE:GREGORIAN
METHOD:PUBLISH
X-WR-CALNAME:Celemi
X-ORIGINAL-URL:https://celemi.net.cn
X-WR-CALDESC:Events for Celemi
REFRESH-INTERVAL;VALUE=DURATION:PT1H
X-Robots-Tag:noindex
X-PUBLISHED-TTL:PT1H
BEGIN:VTIMEZONE
TZID:Asia/Shanghai
BEGIN:STANDARD
TZOFFSETFROM:+0800
TZOFFSETTO:+0800
TZNAME:CST
DTSTART:20250101T000000
END:STANDARD
END:VTIMEZONE
BEGIN:VEVENT
DTSTART;TZID=Asia/Shanghai:20251030T133000
DTEND;TZID=Asia/Shanghai:20251030T170000
DTSTAMP:20260423T195728
CREATED:20251010T061759Z
LAST-MODIFIED:20251014T070217Z
UID:608-1761831000-1761843600@celemi.net.cn
SUMMARY:Celemi Enterprise™ 试听课，October 30，2025
DESCRIPTION:破局出海，共赢未来\n日益内卷的国内市场，越来越多的企业选择走出去，出海企业如何在复杂多变的跨地域市场环境中团结专业团队，成功实施国际化商业战略，成为摆在所有"走出去"企业面前的核心课题。 \nCelemi EnterpriseTM 商业模拟沙盘为此提供了极具前瞻性的实战预演平台。在这一沉浸式学习中，学员们将组建一支国际化经营团队，分别担任模拟企业的关键管理角色——从洞察全球市场的营销专家，到统筹业务发展的战略顾问，从精通项目计划与执行的运营总监，到掌控财务与现金流的财务总监。 \n这个团队将共同面对风云变幻的市场挑战：需要在资源约束和激烈国际竞争的环境中，制定并执行企业的全球化战略。如何在竞争中赢得优质客户、建立可持续的合作伙伴关系、实现商业价值最大化，将成为他们面临的最大考验。 \n  \n注意： 本课程为线下课，但需要使用电脑，如不方便携带，请提前告知。
URL:https://celemi.net.cn/events/celemi-digital-enterprise-ds
LOCATION:Celemi APAC\, Suite 3405\, No. 1168\, CITIC SQUARE\, NanJingXi Road\, Shanghai\, China
CATEGORIES:Celemi event,Open Session
ATTACH;FMTTYPE=image/jpeg:https://celemi.net.cn/wp-content/uploads/2025/10/7G0A1181-scaled.jpg
END:VEVENT
END:VCALENDAR